BEGIN:VCALENDAR
VERSION:2.0
PRODID:-//Emergence University - ECPv6.15.20//NONSGML v1.0//EN
CALSCALE:GREGORIAN
METHOD:PUBLISH
X-ORIGINAL-URL:https://emergenceuniversity.com
X-WR-CALDESC:Events for Emergence University
REFRESH-INTERVAL;VALUE=DURATION:PT1H
X-Robots-Tag:noindex
X-PUBLISHED-TTL:PT1H
BEGIN:VTIMEZONE
TZID:America/New_York
BEGIN:DAYLIGHT
TZOFFSETFROM:-0500
TZOFFSETTO:-0400
TZNAME:EDT
DTSTART:20250309T070000
END:DAYLIGHT
BEGIN:STANDARD
TZOFFSETFROM:-0400
TZOFFSETTO:-0500
TZNAME:EST
DTSTART:20251102T060000
END:STANDARD
BEGIN:DAYLIGHT
TZOFFSETFROM:-0500
TZOFFSETTO:-0400
TZNAME:EDT
DTSTART:20260308T070000
END:DAYLIGHT
BEGIN:STANDARD
TZOFFSETFROM:-0400
TZOFFSETTO:-0500
TZNAME:EST
DTSTART:20261101T060000
END:STANDARD
BEGIN:DAYLIGHT
TZOFFSETFROM:-0500
TZOFFSETTO:-0400
TZNAME:EDT
DTSTART:20270314T070000
END:DAYLIGHT
BEGIN:STANDARD
TZOFFSETFROM:-0400
TZOFFSETTO:-0500
TZNAME:EST
DTSTART:20271107T060000
END:STANDARD
BEGIN:DAYLIGHT
TZOFFSETFROM:-0500
TZOFFSETTO:-0400
TZNAME:EDT
DTSTART:20280312T070000
END:DAYLIGHT
BEGIN:STANDARD
TZOFFSETFROM:-0400
TZOFFSETTO:-0500
TZNAME:EST
DTSTART:20281105T060000
END:STANDARD
END:VTIMEZONE
BEGIN:VEVENT
DTSTART;TZID=America/New_York:20260425T100000
DTEND;TZID=America/New_York:20260425T130000
DTSTAMP:20260423T105429
CREATED:20251129T002843Z
LAST-MODIFIED:20251129T002843Z
UID:10000097-1777111200-1777122000@emergenceuniversity.com
SUMMARY:Emergence University - April 25\, 2026 | Monthly Seminar
DESCRIPTION:We generally meet on the fourth Saturday of the month\, from 10 AM to 1 PM\, except for the month of August\, when we hold the Annual Summer Retreat\, and the month of December\, when we meet on the third Saturday.
URL:https://emergenceuniversity.com/event/emergence-university-april-25-2026-monthly-seminar
CATEGORIES:Student Seminar
END:VEVENT
BEGIN:VEVENT
DTSTART;TZID=America/New_York:20260509T100000
DTEND;TZID=America/New_York:20260509T130000
DTSTAMP:20260423T105429
CREATED:20260404T221129Z
LAST-MODIFIED:20260404T221129Z
UID:10000128-1778320800-1778331600@emergenceuniversity.com
SUMMARY:Emergence Basics Seminar #4 | May 9\, 2026
DESCRIPTION:This is the fourth in a series of seminars designed to teach the fundamentals of Emergence. In the seminar\, Maria\, Sam\, and Steve will discuss [to be announced].
URL:https://emergenceuniversity.com/event/emergence-basics-seminar-4-may-9-2026
CATEGORIES:Emergence Basics Seminar
END:VEVENT
BEGIN:VEVENT
DTSTART;TZID=America/New_York:20260519T191500
DTEND;TZID=America/New_York:20260519T211500
DTSTAMP:20260423T105429
CREATED:20251129T003052Z
LAST-MODIFIED:20251129T003052Z
UID:10000099-1779218100-1779225300@emergenceuniversity.com
SUMMARY:Emergence Practitioner Grand Rounds -May 19\, 2026
DESCRIPTION:We generally meet on the third Tuesday of every month\, from 7:15 PM to 9:15 PM\, including in the month of August\, when we hold the Summer Seminar Retreat.
URL:https://emergenceuniversity.com/event/emergence-practitioner-grand-rounds-may-19-2026
CATEGORIES:Grand Rounds,Practitioner Group
END:VEVENT
BEGIN:VEVENT
DTSTART;TZID=America/New_York:20260523T100000
DTEND;TZID=America/New_York:20260523T130000
DTSTAMP:20260423T105429
CREATED:20251129T003137Z
LAST-MODIFIED:20251129T003137Z
UID:10000100-1779530400-1779541200@emergenceuniversity.com
SUMMARY:Emergence University - May 23\, 2026 | Monthly Seminar
DESCRIPTION:We generally meet on the fourth Saturday of the month\, from 10 AM to 1 PM\, except for the month of August\, when we hold the Annual Summer Retreat\, and the month of December\, when we meet on the third Saturday.
URL:https://emergenceuniversity.com/event/emergence-university-may-23-2026-monthly-seminar
CATEGORIES:Student Seminar
END:VEVENT
BEGIN:VEVENT
DTSTART;TZID=America/New_York:20260613T100000
DTEND;TZID=America/New_York:20260613T130000
DTSTAMP:20260423T105429
CREATED:20260404T221322Z
LAST-MODIFIED:20260404T221923Z
UID:10000129-1781344800-1781355600@emergenceuniversity.com
SUMMARY:Emergence Basics Seminar #5 | June 13\, 2026
DESCRIPTION:This is the fifth in a series of seminars designed to teach the fundamentals of Emergence. In the seminar\, Maria\, Sam\, and Steve will discuss [to be announced].
URL:https://emergenceuniversity.com/event/emergence-basics-seminar-5
CATEGORIES:Emergence Basics Seminar
END:VEVENT
BEGIN:VEVENT
DTSTART;TZID=America/New_York:20260616T191500
DTEND;TZID=America/New_York:20260616T211500
DTSTAMP:20260423T105429
CREATED:20251129T003332Z
LAST-MODIFIED:20251129T003332Z
UID:10000102-1781637300-1781644500@emergenceuniversity.com
SUMMARY:Emergence Practitioner Grand Rounds -June 16\, 2026
DESCRIPTION:We generally meet on the third Tuesday of every month\, from 7:15 PM to 9:15 PM\, including in the month of August\, when we hold the Summer Seminar Retreat.
URL:https://emergenceuniversity.com/event/emergence-practitioner-grand-rounds-june-16-2026
CATEGORIES:Grand Rounds,Practitioner Group
END:VEVENT
BEGIN:VEVENT
DTSTART;TZID=America/New_York:20260627T100000
DTEND;TZID=America/New_York:20260627T130000
DTSTAMP:20260423T105429
CREATED:20251129T003245Z
LAST-MODIFIED:20251129T003245Z
UID:10000101-1782554400-1782565200@emergenceuniversity.com
SUMMARY:Emergence University - June 27\, 2026 | Monthly Seminar
DESCRIPTION:We generally meet on the fourth Saturday of the month\, from 10 AM to 1 PM\, except for the month of August\, when we hold the Annual Summer Retreat\, and the month of December\, when we meet on the third Saturday.
URL:https://emergenceuniversity.com/event/emergence-university-june-27-2026-monthly-seminar
CATEGORIES:Student Seminar
END:VEVENT
BEGIN:VEVENT
DTSTART;TZID=America/New_York:20260711T100000
DTEND;TZID=America/New_York:20260711T130000
DTSTAMP:20260423T105429
CREATED:20260404T221522Z
LAST-MODIFIED:20260404T221817Z
UID:10000130-1783764000-1783774800@emergenceuniversity.com
SUMMARY:Emergence Basics Seminar #6 | July 11\, 2026
DESCRIPTION:This is the sixth in a series of seminars designed to teach the fundamentals of Emergence. In the seminar\, Maria\, Sam\, and Steve will discuss [to be announced].
URL:https://emergenceuniversity.com/event/emergence-basics-seminar-6
CATEGORIES:Emergence Basics Seminar
END:VEVENT
BEGIN:VEVENT
DTSTART;TZID=America/New_York:20260714T180000
DTEND;TZID=America/New_York:20260714T190000
DTSTAMP:20260423T105429
CREATED:20251129T005631Z
LAST-MODIFIED:20251129T005631Z
UID:10000118-1784052000-1784055600@emergenceuniversity.com
SUMMARY:Emergence University Sponsor's Meeting | July 14\, 2026
DESCRIPTION:We generally meet every four months\, on the second Tuesday of the month\, from 6 PM to 7 PM\, in March\, July. and November.
URL:https://emergenceuniversity.com/event/emergence-university-sponsors-meeting-july-14-2026
CATEGORIES:EU Sponsors Meeting
END:VEVENT
BEGIN:VEVENT
DTSTART;TZID=America/New_York:20260721T191500
DTEND;TZID=America/New_York:20260721T211500
DTSTAMP:20260423T105429
CREATED:20251129T003430Z
LAST-MODIFIED:20251129T004557Z
UID:10000103-1784661300-1784668500@emergenceuniversity.com
SUMMARY:Emergence Practitioner Grand Rounds - July 21\, 2026
DESCRIPTION:We generally meet on the third Tuesday of every month\, from 7:15 PM to 9:15 PM\, including in the month of August\, when we hold the Summer Seminar Retreat.
URL:https://emergenceuniversity.com/event/emergence-practitioner-grand-rounds-july-21-2026
CATEGORIES:Grand Rounds,Practitioner Group
END:VEVENT
BEGIN:VEVENT
DTSTART;TZID=America/New_York:20260725T100000
DTEND;TZID=America/New_York:20260725T130000
DTSTAMP:20260423T105429
CREATED:20251129T003541Z
LAST-MODIFIED:20251129T003541Z
UID:10000104-1784973600-1784984400@emergenceuniversity.com
SUMMARY:Emergence University - July 25\, 2026 | Monthly Seminar
DESCRIPTION:We generally meet on the fourth Saturday of the month\, from 10 AM to 1 PM\, except for the month of August\, when we hold the Annual Summer Retreat\, and the month of December\, when we meet on the third Saturday.
URL:https://emergenceuniversity.com/event/emergence-university-july-25-2026-monthly-seminar
CATEGORIES:Student Seminar
END:VEVENT
BEGIN:VEVENT
DTSTART;TZID=America/New_York:20260808T100000
DTEND;TZID=America/New_York:20260808T130000
DTSTAMP:20260423T105429
CREATED:20260404T221640Z
LAST-MODIFIED:20260404T221737Z
UID:10000131-1786183200-1786194000@emergenceuniversity.com
SUMMARY:Emergence Basics Seminar # 7 | August 8\, 2026
DESCRIPTION:This is the seventh in a series of seminars designed to teach the fundamentals of Emergence. In the seminar\, Maria\, Sam\, and Steve will discuss [to be announced].
URL:https://emergenceuniversity.com/event/emergence-basics-seminar-7
CATEGORIES:Emergence Basics Seminar
END:VEVENT
BEGIN:VEVENT
DTSTART;TZID=America/New_York:20260811T180000
DTEND;TZID=America/New_York:20260811T190000
DTSTAMP:20260423T105429
CREATED:20251129T010145Z
LAST-MODIFIED:20251129T010145Z
UID:10000122-1786471200-1786474800@emergenceuniversity.com
SUMMARY:Emergence University | Dean's Meeting - August 11\, 2026
DESCRIPTION:We generally meet every four months\, on the second Tuesday of the month\, for one hour\, from 6 PM to 7 PM\, in April\, August\, and December.
URL:https://emergenceuniversity.com/event/emergence-university-deans-meeting-august-11-2026
CATEGORIES:EU Dean's Meeting
END:VEVENT
BEGIN:VEVENT
DTSTART;TZID=America/New_York:20260818T191500
DTEND;TZID=America/New_York:20260818T211500
DTSTAMP:20260423T105429
CREATED:20251129T004539Z
LAST-MODIFIED:20251129T004539Z
UID:10000114-1787080500-1787087700@emergenceuniversity.com
SUMMARY:Emergence Practitioner Grand Rounds - August 18\, 2026
DESCRIPTION:We generally meet on the third Tuesday of every month\, from 7:15 PM to 9:15 PM\, including in the month of August\, when we hold the Summer Seminar Retreat.
URL:https://emergenceuniversity.com/event/emergence-practitioner-grand-rounds-august-18-2026
CATEGORIES:Grand Rounds,Practitioner Group
END:VEVENT
BEGIN:VEVENT
DTSTART;TZID=America/New_York:20260822T150000
DTEND;TZID=America/New_York:20260830T100000
DTSTAMP:20260423T105429
CREATED:20251129T005326Z
LAST-MODIFIED:20251129T005326Z
UID:10000116-1787410800-1788084000@emergenceuniversity.com
SUMMARY:Annual Emergence Retreat - August 2026
DESCRIPTION:Driving Directions\nhttps://goo.gl/maps/43my2ZYQHRR2 | 344 NY-296\, Hensonville\, NY 12439 \nAddress:\n344 NY-296\nHensonville\, NY 12439 \nVRBO Listing\n\nWiFi Network Name:\n344windham\nNetwork Password: bestskihouse\nUse 344windham for wifi \n\nPolice contact\n(518) 734-3151
URL:https://emergenceuniversity.com/event/annual-emergence-retreat-august-2026
CATEGORIES:Annual Emergence Retreat
ORGANIZER;CN="Steven Paglierani":MAILTO:steven@theemergencesite.com
END:VEVENT
BEGIN:VEVENT
DTSTART;TZID=America/New_York:20260915T191500
DTEND;TZID=America/New_York:20260915T211500
DTSTAMP:20260423T105429
CREATED:20251129T003649Z
LAST-MODIFIED:20251129T003649Z
UID:10000105-1789499700-1789506900@emergenceuniversity.com
SUMMARY:Emergence Practitioner Grand Rounds - September 15\, 2026
DESCRIPTION:We generally meet on the third Tuesday of every month\, from 7:15 PM to 9:15 PM\, including in the month of August\, when we hold the Summer Seminar Retreat.
URL:https://emergenceuniversity.com/event/emergence-practitioner-grand-rounds-september-15-2026
CATEGORIES:Grand Rounds,Practitioner Group
END:VEVENT
BEGIN:VEVENT
DTSTART;TZID=America/New_York:20260926T100000
DTEND;TZID=America/New_York:20260926T130000
DTSTAMP:20260423T105429
CREATED:20251129T003730Z
LAST-MODIFIED:20251129T003730Z
UID:10000106-1790416800-1790427600@emergenceuniversity.com
SUMMARY:Emergence University - September 26\, 2026 | Monthly Seminar
DESCRIPTION:We generally meet on the fourth Saturday of the month\, from 10 AM to 1 PM\, except for the month of August\, when we hold the Annual Summer Retreat\, and the month of December\, when we meet on the third Saturday.
URL:https://emergenceuniversity.com/event/emergence-university-september-26-2026-monthly-seminar
CATEGORIES:Student Seminar
END:VEVENT
BEGIN:VEVENT
DTSTART;TZID=America/New_York:20261020T191500
DTEND;TZID=America/New_York:20261020T211500
DTSTAMP:20260423T105429
CREATED:20251129T003932Z
LAST-MODIFIED:20251129T003932Z
UID:10000108-1792523700-1792530900@emergenceuniversity.com
SUMMARY:Emergence Practitioner Grand Rounds - October 20\, 2026
DESCRIPTION:We generally meet on the third Tuesday of every month\, from 7:15 PM to 9:15 PM\, including in the month of August\, when we hold the Summer Seminar Retreat.
URL:https://emergenceuniversity.com/event/emergence-practitioner-grand-rounds-october-20-2026
CATEGORIES:Grand Rounds,Practitioner Group
END:VEVENT
BEGIN:VEVENT
DTSTART;TZID=America/New_York:20261024T100000
DTEND;TZID=America/New_York:20261024T130000
DTSTAMP:20260423T105429
CREATED:20251129T003836Z
LAST-MODIFIED:20251129T003836Z
UID:10000107-1792836000-1792846800@emergenceuniversity.com
SUMMARY:Emergence University - October 24\, 2026 | Monthly Seminar
DESCRIPTION:We generally meet on the fourth Saturday of the month\, from 10 AM to 1 PM\, except for the month of August\, when we hold the Annual Summer Retreat\, and the month of December\, when we meet on the third Saturday.
URL:https://emergenceuniversity.com/event/emergence-university-october-24-2026-monthly-seminar
CATEGORIES:Student Seminar
END:VEVENT
BEGIN:VEVENT
DTSTART;TZID=America/New_York:20261110T180000
DTEND;TZID=America/New_York:20261110T190000
DTSTAMP:20260423T105429
CREATED:20251129T005744Z
LAST-MODIFIED:20251129T005744Z
UID:10000119-1794333600-1794337200@emergenceuniversity.com
SUMMARY:Emergence University Sponsor's Meeting | November 10\, 2026
DESCRIPTION:We generally meet every four months\, on the second Tuesday of the month\, from 6 PM to 7 PM\, in March\, July. and November.
URL:https://emergenceuniversity.com/event/emergence-university-sponsors-meeting-november-10-2026
CATEGORIES:EU Sponsors Meeting
END:VEVENT
BEGIN:VEVENT
DTSTART;TZID=America/New_York:20261117T191500
DTEND;TZID=America/New_York:20261117T211500
DTSTAMP:20260423T105429
CREATED:20251129T004136Z
LAST-MODIFIED:20251129T004136Z
UID:10000110-1794942900-1794950100@emergenceuniversity.com
SUMMARY:Emergence Practitioner Grand Rounds - November 17\, 2026
DESCRIPTION:We generally meet on the third Tuesday of every month\, from 7:15 PM to 9:15 PM\, including in the month of August\, when we hold the Summer Seminar Retreat.
URL:https://emergenceuniversity.com/event/emergence-practitioner-grand-rounds-november-17-2026
CATEGORIES:Grand Rounds,Practitioner Group
END:VEVENT
BEGIN:VEVENT
DTSTART;TZID=America/New_York:20261128T100000
DTEND;TZID=America/New_York:20261128T130000
DTSTAMP:20260423T105429
CREATED:20251129T004046Z
LAST-MODIFIED:20251129T004046Z
UID:10000109-1795860000-1795870800@emergenceuniversity.com
SUMMARY:Emergence University - November 28\, 2026 | Monthly Seminar
DESCRIPTION:We generally meet on the fourth Saturday of the month\, from 10 AM to 1 PM\, except for the month of August\, when we hold the Annual Summer Retreat\, and the month of December\, when we meet on the third Saturday.
URL:https://emergenceuniversity.com/event/emergence-university-november-28-2026-monthly-seminar
CATEGORIES:Student Seminar
END:VEVENT
BEGIN:VEVENT
DTSTART;TZID=America/New_York:20261208T180000
DTEND;TZID=America/New_York:20261208T190000
DTSTAMP:20260423T105429
CREATED:20251129T005921Z
LAST-MODIFIED:20251129T005921Z
UID:10000120-1796752800-1796756400@emergenceuniversity.com
SUMMARY:Emergence University | Dean's Meeting - December 8\, 2026
DESCRIPTION:We generally meet every four months\, on the second Tuesday of the month\, for one hour\, from 6 PM to 7 PM\, in April\, August\, and December.
URL:https://emergenceuniversity.com/event/emergence-university-deans-meeting-december-8-2026
CATEGORIES:EU Dean's Meeting
END:VEVENT
BEGIN:VEVENT
DTSTART;TZID=America/New_York:20261215T191500
DTEND;TZID=America/New_York:20261215T211500
DTSTAMP:20260423T105429
CREATED:20251129T004319Z
LAST-MODIFIED:20251129T004319Z
UID:10000112-1797362100-1797369300@emergenceuniversity.com
SUMMARY:Emergence Practitioner Grand Rounds - December 15\, 2026
DESCRIPTION:We generally meet on the third Tuesday of every month\, from 7:15 PM to 9:15 PM\, including in the month of August\, when we hold the Summer Seminar Retreat.
URL:https://emergenceuniversity.com/event/emergence-practitioner-grand-rounds-december-15-2026
CATEGORIES:Grand Rounds,Practitioner Group
END:VEVENT
BEGIN:VEVENT
DTSTART;TZID=America/New_York:20261219T100000
DTEND;TZID=America/New_York:20261219T130000
DTSTAMP:20260423T105429
CREATED:20251129T004231Z
LAST-MODIFIED:20251129T004231Z
UID:10000111-1797674400-1797685200@emergenceuniversity.com
SUMMARY:Emergence University - December 19\, 2026 | Monthly Seminar
DESCRIPTION:We generally meet on the fourth Saturday of the month\, from 10 AM to 1 PM\, except for the month of August\, when we hold the Annual Summer Retreat\, and the month of December\, when we meet on the third Saturday.
URL:https://emergenceuniversity.com/event/emergence-university-december-19-2026-monthly-seminar
CATEGORIES:Student Seminar
END:VEVENT
BEGIN:VEVENT
DTSTART;TZID=America/New_York:20270119T191500
DTEND;TZID=America/New_York:20270119T211500
DTSTAMP:20260423T105429
CREATED:20251129T004707Z
LAST-MODIFIED:20251129T004707Z
UID:10000115-1800386100-1800393300@emergenceuniversity.com
SUMMARY:Emergence Practitioner Grand Rounds - January 19\, 2027
DESCRIPTION:We generally meet on the third Tuesday of every month\, from 7:15 PM to 9:15 PM\, including in the month of August\, when we hold the Summer Seminar Retreat.
URL:https://emergenceuniversity.com/event/emergence-practitioner-grand-rounds-january-19-2027
CATEGORIES:Grand Rounds,Practitioner Group
END:VEVENT
BEGIN:VEVENT
DTSTART;TZID=America/New_York:20270123T100000
DTEND;TZID=America/New_York:20270123T130000
DTSTAMP:20260423T105429
CREATED:20251129T004446Z
LAST-MODIFIED:20251129T004446Z
UID:10000113-1800698400-1800709200@emergenceuniversity.com
SUMMARY:Emergence University - January 23\, 2027 | Monthly Seminar
DESCRIPTION:We generally meet on the fourth Saturday of the month\, from 10 AM to 1 PM\, except for the month of August\, when we hold the Annual Summer Retreat\, and the month of December\, when we meet on the third Saturday.
URL:https://emergenceuniversity.com/event/emergence-university-january-23-2027-monthly-seminar
CATEGORIES:Student Seminar
END:VEVENT
END:VCALENDAR